BEGIN:VCALENDAR
VERSION:2.0
PRODID:gruene-braunschweig.de
METHOD:PUBLISH
BEGIN:VTIMEZONE
TZID:Europe/Berlin
X-LIC-LOCATION:Europe/Berlin
BEGIN:DAYLIGHT
TZOFFSETFROM:+0100
TZOFFSETTO:+0200
TZNAME:CEST
DTSTART:19700329T020000
RRULE:FREQ=YEARLY;INTERVAL=1;BYDAY=-1SU;BYMONTH=3
END:DAYLIGHT
BEGIN:STANDARD
TZOFFSETFROM:+0200
TZOFFSETTO:+0100
TZNAME:CET
DTSTART:19701025T030000
RRULE:FREQ=YEARLY;INTERVAL=1;BYDAY=-1SU;BYMONTH=10
END:STANDARD
END:VTIMEZONE
BEGIN:VEVENT
UID:076e2dd85df0041ec51490d8db119459@gruene-braunschweig.de
URL;VALUE=URI:https://gruene-braunschweig.de/termine/buergerinnensprechst
 unde-mit-swantje-schendel-mdl/
LOCATION:Basketball- und Skateplatz im Prinz-Albrecht-Park (Herzog-Elisab
 eth-Straße, 38104 Braunschweig) 
SUMMARY:Bürger*innensprechstunde mit Swantje Schendel MdL
DESCRIPTION;ALTREP="data:text/html,%3Cp%3EVor%20Ort%20ansprechbar%20zu%20
 sein%2C%20das%20ist%20unserer%20Landtagsabgeordneten%20Swantje%20Schendel
 %20wichtig.%20Als%20sozialpolitische%20Sprecherin%20ihrer%20Fraktion%20in
 %20Hannover%20m%C3%B6chte%20sie%20im%20pers%C3%B6nlichen%20Gespr%C3%A4ch%
 20mehr%20%C3%BCber%20die%20jeweiligen%20Anliegen%20der%20B%C3%BCrger%2Ain
 nen%20und%20ihrer%20W%C3%A4hler%2Ainnen%20in%20Braunschweig%20erfahren.%2
 0%3Cbr%20%2F%3E%0A%3Cbr%20%2F%3E%0AUm%20Anmeldung%20per%20E-Mail%20an%20r
 egionalbuero.schendel%40lt.niedersachsen.de%20wird%20gebeten%2C%20ggf.%20
 auch%20schon%20mit%20dem%20gew%C3%BCnschten%20Gespr%C3%A4chsinhalt.%20%3C
 br%20%2F%3E%0A%3Cbr%20%2F%3E%0AF%C3%BCr%20Snacks%20und%20Getr%C3%A4nke%20
 ist%20gesorgt%21%20%3Cbr%20%2F%3E%0A%3Cbr%20%2F%3E%0ADie%20Sprechstunde%2
 0findet%20nur%20bei%20gutem%20Wetter%20statt.%20%3C%2Fp%3E":Vor Ort anspr
 echbar zu sein\, das ist unserer Landtagsabgeordneten Swantje Schendel wi
 chtig. Als sozialpolitische Sprecherin ihrer Fraktion in Hannover möchte
  sie im persönlichen Gespräch mehr über die jeweiligen Anliegen der B
 ürger*innen und ihrer Wähler*innen in Braunschweig erfahren.\n\nUm Anme
 ldung per E-Mail an regionalbuero.schendel@lt.niedersachsen.de wird gebet
 en\, ggf. auch schon mit dem gewünschten Gesprächsinhalt.\n\nFür Snack
 s und Getränke ist gesorgt!\n\nDie Sprechstunde findet nur bei gutem Wet
 ter statt.
CLASS:PUBLIC
DTSTART;TZID=Europe/Berlin:20260520T170000
DTEND;TZID=Europe/Berlin:20260520T183000
DTSTAMP:20260424T153647
END:VEVENT
END:VCALENDAR