BEGIN:VCALENDAR
VERSION:2.0
PRODID:gruene-braunschweig.de
METHOD:PUBLISH
BEGIN:VTIMEZONE
TZID:Europe/Berlin
X-LIC-LOCATION:Europe/Berlin
BEGIN:DAYLIGHT
TZOFFSETFROM:+0100
TZOFFSETTO:+0200
TZNAME:CEST
DTSTART:19700329T020000
RRULE:FREQ=YEARLY;INTERVAL=1;BYDAY=-1SU;BYMONTH=3
END:DAYLIGHT
BEGIN:STANDARD
TZOFFSETFROM:+0200
TZOFFSETTO:+0100
TZNAME:CET
DTSTART:19701025T030000
RRULE:FREQ=YEARLY;INTERVAL=1;BYDAY=-1SU;BYMONTH=10
END:STANDARD
END:VTIMEZONE
BEGIN:VEVENT
UID:4455c90e9b746f9ddef3417128cac7f8@gruene-braunschweig.de
URL;VALUE=URI:https://gruene-braunschweig.de/termine/mitgliederversammlun
 g-programm-mv/
LOCATION:Kinderschutzbund
SUMMARY:Mitgliederversammlung: Wahlprogramm
DESCRIPTION;ALTREP="data:text/html,%3Cp%3E%3C%2Fp%3E":
CLASS:PUBLIC
DTSTART;TZID=Europe/Berlin:20260530T100000
DTEND;TZID=Europe/Berlin:20260530T160000
DTSTAMP:20260424T152846
END:VEVENT
END:VCALENDAR