BEGIN:VCALENDAR
VERSION:2.0
PRODID:gruene-braunschweig.de
METHOD:PUBLISH
BEGIN:VTIMEZONE
TZID:Europe/Berlin
X-LIC-LOCATION:Europe/Berlin
BEGIN:DAYLIGHT
TZOFFSETFROM:+0100
TZOFFSETTO:+0200
TZNAME:CEST
DTSTART:19700329T020000
RRULE:FREQ=YEARLY;INTERVAL=1;BYDAY=-1SU;BYMONTH=3
END:DAYLIGHT
BEGIN:STANDARD
TZOFFSETFROM:+0200
TZOFFSETTO:+0100
TZNAME:CET
DTSTART:19701025T030000
RRULE:FREQ=YEARLY;INTERVAL=1;BYDAY=-1SU;BYMONTH=10
END:STANDARD
END:VTIMEZONE
BEGIN:VEVENT
UID:4305671014a8287a0aed5d848a62b5a3@gruene-braunschweig.de
URL;VALUE=URI:https://gruene-braunschweig.de/termine/offenes-gruenes-tref
 fen-22/
LOCATION:Grüner Laden, Ägidienmarkt 13, 38100 Braunschweig
SUMMARY:Fällt aus: Offenes Grünes Treffen
DESCRIPTION;ALTREP="data:text/html,%3Cp%3EDas%20Treffen%20am%2030.04.2026
 %20f%C3%A4llt%20aus%20-%20wir%20sehen%20uns%20am%2001.05.%20bei%20der%20K
 undgebung%2FInternationalem%20Fest%3Cbr%20%2F%3E%0Ahttps%3A%2F%2Fersterma
 ibraunschweig.de%2F%3Cbr%20%2F%3E%0A%3Cbr%20%2F%3E%0ABeim%20offenen%20Tre
 ffen%20handelt%20es%20sich%20um%20eine%20entspannte%20Runde%2C%20mit%20od
 er%20ohne%20Bier.%20Das%20OGT%20ist%20fast%20wie%20das%20Wahlwatching%20n
 ur%20ohne%20Wahlergebnisse%2C%20wie%20ein%20Stammtisch%2C%20aber%20ohne%2
 0die%20Parolen%2C%20wie%20eine%20Kaffeepause%2C%20nur%20abends.%20Politis
 che%20Gespr%C3%A4che%20sind%20willkommen%2C%20aber%20kein%20Muss.%20Egal%
 20ob%20du%20neu%20dabei%20bist%2C%20oder%20schon%20l%C3%A4nger%20-%20komm
 %20einfach%20vorbei.%3Cbr%20%2F%3E%0A%3Cbr%20%2F%3E%0AEs%20gibt%20keine%2
 0Moderation%20oder%20Tagesordnung%20bei%20diesen%20Treffen.%20Im%20Vorder
 grund%20steht%20der%20pers%C3%B6nliche%20Austausch%20und%20das%20Kennenle
 rnen%20untereinander.%20Das%20OGT%20findet%20mindestens%20einmal%20im%20M
 onat%20statt.%3C%2Fp%3E":Das Treffen am 30.04.2026 fällt aus - wir sehen
  uns am 01.05. bei der Kundgebung/Internationalem Fest\n\nhttps://ersterm
 aibraunschweig.de/\n\nBeim offenen Treffen handelt es sich um eine entspa
 nnte Runde\, mit oder ohne Bier. Das OGT ist fast wie das Wahlwatching nu
 r ohne Wahlergebnisse\, wie ein Stammtisch\, aber ohne die Parolen\, wie 
 eine Kaffeepause\, nur abends. Politische Gespräche sind willkommen\, ab
 er kein Muss. Egal ob du neu dabei bist\, oder schon länger - komm einfa
 ch vorbei.\n\nEs gibt keine Moderation oder Tagesordnung bei diesen Treff
 en. Im Vordergrund steht der persönliche Austausch und das Kennenlernen 
 untereinander. Das OGT findet mindestens einmal im Monat statt.
CLASS:PUBLIC
DTSTART;TZID=Europe/Berlin:20260430T190000
DTEND;TZID=Europe/Berlin:20260430T220000
DTSTAMP:20260424T153320
END:VEVENT
END:VCALENDAR